BEGIN:VCALENDAR
VERSION:2.0
PRODID:-//Grand Island Liederkranz - ECPv6.15.20//NONSGML v1.0//EN
CALSCALE:GREGORIAN
METHOD:PUBLISH
X-WR-CALNAME:Grand Island Liederkranz
X-ORIGINAL-URL:https://giliederkranz.org
X-WR-CALDESC:Events for Grand Island Liederkranz
REFRESH-INTERVAL;VALUE=DURATION:PT1H
X-Robots-Tag:noindex
X-PUBLISHED-TTL:PT1H
BEGIN:VTIMEZONE
TZID:America/Chicago
BEGIN:DAYLIGHT
TZOFFSETFROM:-0600
TZOFFSETTO:-0500
TZNAME:CDT
DTSTART:20240310T080000
END:DAYLIGHT
BEGIN:STANDARD
TZOFFSETFROM:-0500
TZOFFSETTO:-0600
TZNAME:CST
DTSTART:20241103T070000
END:STANDARD
BEGIN:DAYLIGHT
TZOFFSETFROM:-0600
TZOFFSETTO:-0500
TZNAME:CDT
DTSTART:20250309T080000
END:DAYLIGHT
BEGIN:STANDARD
TZOFFSETFROM:-0500
TZOFFSETTO:-0600
TZNAME:CST
DTSTART:20251102T070000
END:STANDARD
BEGIN:DAYLIGHT
TZOFFSETFROM:-0600
TZOFFSETTO:-0500
TZNAME:CDT
DTSTART:20260308T080000
END:DAYLIGHT
BEGIN:STANDARD
TZOFFSETFROM:-0500
TZOFFSETTO:-0600
TZNAME:CST
DTSTART:20261101T070000
END:STANDARD
END:VTIMEZONE
BEGIN:VEVENT
DTSTART;TZID=America/Chicago:20251220T190000
DTEND;TZID=America/Chicago:20251221T230000
DTSTAMP:20260419T101105
CREATED:20250812T224426Z
LAST-MODIFIED:20251205T170455Z
UID:5105-1766257200-1766358000@giliederkranz.org
SUMMARY:Liederkranz Live:  Cruz Control
DESCRIPTION:Cruz Control  \n			\n			\n				\n				\n				\n				\n			\n				\n				\n			\n				\n				\n				\n				\n				\n				\n				\n				\n				\n				\n				\n				\n				\n				\n				\n				\n				\n				\nHome\n|\nEvents\n|\nCruz Control\n\n			\n				\n				\n				\n				\n				Liederkranz Live:  Cruz Control and Ugly Sweater Party \n– December 20\, 2025 @ 8 pm  \nUgly Sweater Party starts at 7pm\, music begins at 8pm \nLIVE on stage at the Liederkranz. \nYou deserve a night out!  Grab your friends\, family\, neighbors\, and come dressed your ugliest holiday sweater\, grab a cocktail and kick back to the jams of Cruz Control while lifting off some holiday burdens. \nCruz Control \nCruz Control is a three piece band based out of Omaha Nebraska. The band creates and blends their own sound based off of their love for Funk\, Reggae and Jamband style music. Cruz Control is guaranteed to get you moving! \nWe’ll see you at the show! \n			\n				\n				\n				\n				\n				\n			\n				\n				\n				\n				\n				\n					\n						\n				\n			\n			\n				\n			\n			\n				\n			\n			\n				\n			\n			\n					\n				\n			\n			\n			\n				\n				\n				\n				\n			\n				\n				\n				\n				\n				\n				\n				\n				\n				\n				\n				\n				\n				\n					\n				\n				\n				\n				\n				\n				\n				\n					May 23\, 20258:00 PM\n				\n			\n				\n			\n			\n				\n				\n				\n				\n			\n				\n				\n			\n				\n				\n				\n				\n				\n				\n				\n				\n				\n			\n				\n				\n				\n				\n				\n				\n				\n				\n				\n				\n				\n				\n				\n				\n				\n				\n				\n				What’s Next at the Liederkranz
URL:https://giliederkranz.org/event/cruz-control-uglysweater/
LOCATION:Liederkranz\, 401 W 1st Street\, Grand Island\, NE\, 68801\, United States
CATEGORIES:December
ORGANIZER;CN="Liederkranz Live Music":MAILTO:info@giliederkranz.org
END:VEVENT
END:VCALENDAR