BEGIN:VCALENDAR
VERSION:2.0
PRODID:-//Grand Island Liederkranz - ECPv6.15.20//NONSGML v1.0//EN
CALSCALE:GREGORIAN
METHOD:PUBLISH
X-ORIGINAL-URL:https://giliederkranz.org
X-WR-CALDESC:Events for Grand Island Liederkranz
REFRESH-INTERVAL;VALUE=DURATION:PT1H
X-Robots-Tag:noindex
X-PUBLISHED-TTL:PT1H
BEGIN:VTIMEZONE
TZID:America/Chicago
BEGIN:DAYLIGHT
TZOFFSETFROM:-0600
TZOFFSETTO:-0500
TZNAME:CDT
DTSTART:20250309T080000
END:DAYLIGHT
BEGIN:STANDARD
TZOFFSETFROM:-0500
TZOFFSETTO:-0600
TZNAME:CST
DTSTART:20251102T070000
END:STANDARD
BEGIN:DAYLIGHT
TZOFFSETFROM:-0600
TZOFFSETTO:-0500
TZNAME:CDT
DTSTART:20260308T080000
END:DAYLIGHT
BEGIN:STANDARD
TZOFFSETFROM:-0500
TZOFFSETTO:-0600
TZNAME:CST
DTSTART:20261101T070000
END:STANDARD
BEGIN:DAYLIGHT
TZOFFSETFROM:-0600
TZOFFSETTO:-0500
TZNAME:CDT
DTSTART:20270314T080000
END:DAYLIGHT
BEGIN:STANDARD
TZOFFSETFROM:-0500
TZOFFSETTO:-0600
TZNAME:CST
DTSTART:20271107T070000
END:STANDARD
END:VTIMEZONE
BEGIN:VEVENT
DTSTART;TZID=America/Chicago:20260806T190000
DTEND;TZID=America/Chicago:20260807T213000
DTSTAMP:20260419T100421
CREATED:20260201T150447Z
LAST-MODIFIED:20260201T150449Z
UID:5353-1786042800-1786138200@giliederkranz.org
SUMMARY:Liederkranz Live:  Brad Colerick
DESCRIPTION:Brad Colerick\n			\n			\n				\n				\n				\n				\n			\n				\n				\n			\n				\n				\n				\n				\n				\n				\n				\n				\n				\n				\n				\n				\n				\n				\n				\n				\n				\n				\nHome\n|\nEvents\n|\nLiederkranz Live:  \nBrad Colerick\n\n			\n				\n				\n				\n				\n				Thursday\, August 6th  \n7:00 PM (doors open at 6:00)  \n Brad Colerick \nRecording artist and film director Brad Colerick splits his time between homes in Southern California and the Fraser Valley in Colorado. \nHe writes visual songs that quickly seep into your heart. His frequent collaborations with animator and co-director\, Scott Feldmann\, have landed them in numerous film festivals around the country and beyond. \nBillboard Magazine called Colerick “one of a baker’s dozen of acts to watch in the folk community around the world.” \nHe built a successful career in television commercials where he worked with such musical icons as BB King\, Shawn Colvin\, Buddy Guy\, The Chi-Lites\, and Johnny Cash among many others. \nColerick’s music is rooted firmly in the Americana wheelhouse and features guest appearances by Chris Hillman\, Herb Pedersen\, Suzy Bogguss\, Larry Klein\, April Verch and other talented friends. \nSuggested Donation of $10-20 (all proceeds go to the performers) \nBrad Colerick \nhttps://bradcolerick.com/ \n  \n  \n			\n				\n				\n				\n				\n				\n					\n						\n				\n			\n			\n				\n			\n			\n				\n			\n			\n				\n			\n			\n				\n			\n			\n					\n				\n			\n			\n			\n				\n				\n				\n				\n			\n				\n				\n				\n				\n				\n				\n				\n				\n				\n				\n				\n				\n				\n					\n				\n				\n				\n				\n				\n				\n				\n					Friday  August 25th7:30 PM\n				\n			\n				\n			\n			\n				\n				\n				\n				\n			\n				\n				\n			\n				\n				\n				\n				\n				\n				\n				\n				\n				\n			\n				\n				\n				\n				\n				\n				\n				\n				\n				\n				\n				\n				\n				\n				\n				\n				\n				\n				What’s Next at the Liederkranz
URL:https://giliederkranz.org/event/liederkranz-live-brad-colerick/
LOCATION:NE
CATEGORIES:August
ATTACH;FMTTYPE=image/webp:https://giliederkranz.org/wp-content/uploads/2026/02/Brad-Colerick.webp
ORGANIZER;CN="Liederkranz Live Music":MAILTO:info@giliederkranz.org
END:VEVENT
BEGIN:VEVENT
DTSTART;TZID=America/Chicago:20260827T190000
DTEND;TZID=America/Chicago:20260828T213000
DTSTAMP:20260419T100426
CREATED:20260319T185438Z
LAST-MODIFIED:20260319T185441Z
UID:5421-1787857200-1787952600@giliederkranz.org
SUMMARY:Liederkranz Live:  Paul Sprawl
DESCRIPTION:Paul Sprawl \n			\n			\n				\n				\n				\n				\n			\n				\n				\n			\n				\n				\n				\n				\n				\n				\n				\n				\n				\n				\n				\n				\n				\n				\n				\n				\n				\n				\nHome\n|\nEvents\nLiederkranz Live:\nPaul Sprawl \n\n			\n				\n				\n				\n				\n				  \nAug 27\, 2026 \n7:00 PM (doors open at 6:00)  \nPaul Sprawl  \n“The most amazing guitar player I have seen in 8 years”  – St. Augustine musician\, Sam Pacetti \n“Paul Sprawl is a fine songwriter and very original guitarist whose music reflects his colorful experiences as a constantly traveling musician. He certainly deserves wider notoriety. The effort to seek out his work will be richly rewarded.”  -Lee Townsend (Bill Frisell\, John Scofield\, Loudon Wainwright III) \nHome | Paul Sprawl \n$10-$20 suggested Donation (all goes to performer) \n			\n				\n				\n				\n				\n				\n					\n						\n				\n			\n			\n				\n			\n			\n				\n			\n			\n				\n			\n			\n					\n				\n			\n			\n			\n				\n				\n				\n				\n			\n				\n				\n				\n				\n				\n				\n				\n				\n				\n				\n				\n				\n				\n					\n				\n				\n				\n				\n				\n				\n				\n					Friday  August 25th7:30 PM\n				\n			\n				\n			\n			\n				\n				\n				\n				\n			\n				\n				\n			\n				\n				\n				\n				\n				\n				\n				\n				\n				\n			\n				\n				\n				\n				\n				\n				\n				\n				\n				\n				\n				\n				\n				\n				\n				\n				\n				\n				What’s Next at the Liederkranz
URL:https://giliederkranz.org/event/liederkranz-live-paul-sprawl/
LOCATION:Liederkranz\, 401 W 1st Street\, Grand Island\, NE\, 68801\, United States
CATEGORIES:August
ATTACH;FMTTYPE=image/jpeg:https://giliederkranz.org/wp-content/uploads/2026/03/Paul-Sprawl1-scaled.jpg
ORGANIZER;CN="Liederkranz Live Music":MAILTO:info@giliederkranz.org
END:VEVENT
END:VCALENDAR