BEGIN:VCALENDAR
VERSION:2.0
PRODID:-//Grand Island Liederkranz - ECPv6.15.20//NONSGML v1.0//EN
CALSCALE:GREGORIAN
METHOD:PUBLISH
X-ORIGINAL-URL:https://giliederkranz.org
X-WR-CALDESC:Events for Grand Island Liederkranz
REFRESH-INTERVAL;VALUE=DURATION:PT1H
X-Robots-Tag:noindex
X-PUBLISHED-TTL:PT1H
BEGIN:VTIMEZONE
TZID:America/Chicago
BEGIN:DAYLIGHT
TZOFFSETFROM:-0600
TZOFFSETTO:-0500
TZNAME:CDT
DTSTART:20230312T080000
END:DAYLIGHT
BEGIN:STANDARD
TZOFFSETFROM:-0500
TZOFFSETTO:-0600
TZNAME:CST
DTSTART:20231105T070000
END:STANDARD
BEGIN:DAYLIGHT
TZOFFSETFROM:-0600
TZOFFSETTO:-0500
TZNAME:CDT
DTSTART:20240310T080000
END:DAYLIGHT
BEGIN:STANDARD
TZOFFSETFROM:-0500
TZOFFSETTO:-0600
TZNAME:CST
DTSTART:20241103T070000
END:STANDARD
BEGIN:DAYLIGHT
TZOFFSETFROM:-0600
TZOFFSETTO:-0500
TZNAME:CDT
DTSTART:20250309T080000
END:DAYLIGHT
BEGIN:STANDARD
TZOFFSETFROM:-0500
TZOFFSETTO:-0600
TZNAME:CST
DTSTART:20251102T070000
END:STANDARD
END:VTIMEZONE
BEGIN:VEVENT
DTSTART;TZID=America/Chicago:20241102T200000
DTEND;TZID=America/Chicago:20241103T230000
DTSTAMP:20260422T071358
CREATED:20241004T235728Z
LAST-MODIFIED:20241103T055843Z
UID:4269-1730577600-1730674800@giliederkranz.org
SUMMARY:Liederkranz Live - 3 Band Bash - November
DESCRIPTION:Liederkranz Live – 3 band Bash-\nNovember\n			\n			\n				\n				\n				\n				\n			\n				\n				\n			\n				\n				\n				\n				\n				\n				\n				\n				\n				\n				\n				\n				\n				\n				\n				\n				\n				\n				\nHome\n|\nEvents\n|\n-Cruz Control  -Head Change -Swimbirdz\n\n			\n				\n				\n				\n				\n				Liederkranz Live: \nNovember’s – 3 Band Bash \n– Cruz Control   – Head Change   – Swimbirdz \n8 PM – All ages welcome \nWe did it again – Three more great bands all in one night.  Come kick off the month of November with a night of Funk\, Reggae\, Jam Bands\, and everything in between.  Think of it as a Thanksgiving Buffet for your music cravings. \nPrice is $10- $20 suggested and encouraged (all door proceeds go to the musicians) \n			\n				\n				\n				\n				\n				\n			\n				\n				\n				\n				\n				\n					\n						\n				\n			\n			\n				\n			\n			\n				\n			\n			\n				\n			\n			\n				\n			\n			\n				\n			\n			\n				\n			\n			\n					\n				\n			\n			\n			\n				\n				\n				\n				\n			\n				\n				\n				\n				\n				\n				\n				\n				\n				\n				\n				\n				\n				\n					\n				\n				\n				\n				\n				\n				\n				\n					Saturday November 02\, 2024 8:00 PM\n				\n			\n				\n			\n			\n				\n				\n				\n				\n			\n				\n				\n			\n				\n				\n				\n				\n				\n				\n				\n				\n				\n			\n				\n				\n				\n				\n				\n				\n				\n				\n				\n				\n				\n				\n				\n				\n				\n				\n				\n				What’s Next at the Liederkranz
URL:https://giliederkranz.org/event/liederkranz-live-november-bash/
LOCATION:NE
CATEGORIES:November
END:VEVENT
BEGIN:VEVENT
DTSTART;TZID=America/Chicago:20241119T180000
DTEND;TZID=America/Chicago:20241120T220000
DTSTAMP:20260422T071401
CREATED:20241114T090154Z
LAST-MODIFIED:20241114T090159Z
UID:4469-1732039200-1732140000@giliederkranz.org
SUMMARY:Wick O’Rya
DESCRIPTION:Wick O’Rya\n			\n			\n				\n				\n				\n				\n			\n				\n				\n			\n				\n				\n				\n				\n				\n				\n				\n				\n				\n				\n				\n				\n				\n				\n				\n				\n				\n				\nHome\n|\nEvents\n|\nLive Music\n \n-Wick O’Rya\n\n			\n				\n				\n				\n				\n				Liederkranz Live Presents Wick O’Rya in the Brickhall \nTuesday\, November 19 \n7 PM (doors open at 6:00)  -Wick O’Rya \nLiederkranz Live Brickhall Music event \n\nWick O’Rya is a nomadic singer-songwriter from Lincoln\, Nebraska\, whose music captures the highs and lows of life with timeless storytelling and a powerful voice. Driven by a deep love for travel and music\, Wick aims to share songs that resonate with as many people as possible. \n\nPrice is $10- $20 suggested and encouraged (all door proceeds go to the musician) \n			\n				\n				\n				\n				\n				\n					\n						\n				\n			\n			\n				\n			\n			\n				\n			\n			\n				\n			\n			\n				\n			\n			\n					\n				\n			\n			\n			\n				\n				\n				\n				\n			\n				\n				\n				\n				\n				\n				\n				\n				\n				\n				\n				\n				\n				\n					\n				\n				\n				\n				\n				\n				\n				\n					Tuesday NOV 19\, 20247:00 PM\n				\n			\n				\n			\n			\n				\n				\n				\n				\n			\n				\n				\n			\n				\n				\n				\n				\n				\n				\n				\n				\n				\n			\n				\n				\n				\n				\n				\n				\n				\n				\n				\n				\n				\n				\n				\n				\n				\n				\n				\n				What’s Next at the Liederkranz
URL:https://giliederkranz.org/event/wick-orya/
LOCATION:NE
CATEGORIES:November
END:VEVENT
BEGIN:VEVENT
DTSTART;TZID=America/Chicago:20241121T180000
DTEND;TZID=America/Chicago:20241122T210000
DTSTAMP:20260422T071402
CREATED:20241004T021756Z
LAST-MODIFIED:20241103T062041Z
UID:4227-1732212000-1732309200@giliederkranz.org
SUMMARY:Dustin Dale Gaspard
DESCRIPTION:Dustin Dale Gaspard\n			\n			\n				\n				\n				\n				\n			\n				\n				\n			\n				\n				\n				\n				\n				\n				\n				\n				\n				\n				\n				\n				\n				\n				\n				\n				\n				\n				\nHome\n|\nEvents\n|\nDustin Dale Gaspard\n\n			\n				\n				\n				\n				\n				  \nJoin us Saturday November 21\, 2024   \n7 PM (doors open at 6:00)  – Dusting Dale Gaspard \nLIVE in Person \nsinger songwriter Dustin Dale Gaspard extends the boundaries of Louisiana music. \nAfter 10 years of performing throughout the deep Southern Gulf Coast of the USA\, Gaspard released his full length debut album: \n“Hoping Heaven Got A Kitchen”in March 2022. \nHis blend of Americana\, Soul\, Folk and Roots gained Grammy consideration for:-Best American Roots Performance \n-Grammy American Roots Song \n-and Best Americana Album. \nWritten for his grandparents\, the record is a “prayer to his home”and delivers an intimate insight into the Cajun native’s varying influences. Gaspard’s latest project“Avec Le Courrant” is a banjo driven bilingual story album\, detailing the journey of his Acadian ancestors and their exile. This all new original work will once again combine Americana with varying genres including traditional folk\, blues and contemporary songwriter elements\,while heavily utilizing the Cajun French language. \nPrice is $10- $20 suggested and encouraged (all door proceeds go to the musician) \n \n \n			\n				\n				\n				\n				\n				\n					\n						\n				\n			\n			\n				\n			\n			\n				\n			\n			\n				\n			\n			\n					\n				\n			\n			\n			\n				\n				\n				\n				\n			\n				\n				\n				\n				\n				\n				\n				\n				\n				\n				\n				\n				\n				\n					\n				\n				\n				\n				\n				\n				\n				\n					Saturday November 21\, 2024 7:00 PM\n				\n			\n				\n			\n			\n				\n				\n				\n				\n			\n				\n				\n			\n				\n				\n				\n				\n				\n				\n				\n				\n				\n			\n				\n				\n				\n				\n				\n				\n				\n				\n				\n				\n				\n				\n				\n				\n				\n				\n				\n				What’s Next at the Liederkranz
URL:https://giliederkranz.org/event/dustin-dale-gaspard-2/
LOCATION:NE
CATEGORIES:November
END:VEVENT
END:VCALENDAR