BEGIN:VCALENDAR
VERSION:2.0
PRODID:-//Grand Island Liederkranz - ECPv6.15.20//NONSGML v1.0//EN
CALSCALE:GREGORIAN
METHOD:PUBLISH
X-WR-CALNAME:Grand Island Liederkranz
X-ORIGINAL-URL:https://giliederkranz.org
X-WR-CALDESC:Events for Grand Island Liederkranz
REFRESH-INTERVAL;VALUE=DURATION:PT1H
X-Robots-Tag:noindex
X-PUBLISHED-TTL:PT1H
BEGIN:VTIMEZONE
TZID:America/Chicago
BEGIN:DAYLIGHT
TZOFFSETFROM:-0600
TZOFFSETTO:-0500
TZNAME:CDT
DTSTART:20240310T080000
END:DAYLIGHT
BEGIN:STANDARD
TZOFFSETFROM:-0500
TZOFFSETTO:-0600
TZNAME:CST
DTSTART:20241103T070000
END:STANDARD
BEGIN:DAYLIGHT
TZOFFSETFROM:-0600
TZOFFSETTO:-0500
TZNAME:CDT
DTSTART:20250309T080000
END:DAYLIGHT
BEGIN:STANDARD
TZOFFSETFROM:-0500
TZOFFSETTO:-0600
TZNAME:CST
DTSTART:20251102T070000
END:STANDARD
BEGIN:DAYLIGHT
TZOFFSETFROM:-0600
TZOFFSETTO:-0500
TZNAME:CDT
DTSTART:20260308T080000
END:DAYLIGHT
BEGIN:STANDARD
TZOFFSETFROM:-0500
TZOFFSETTO:-0600
TZNAME:CST
DTSTART:20261101T070000
END:STANDARD
END:VTIMEZONE
BEGIN:VEVENT
DTSTART;TZID=America/Chicago:20250719T200000
DTEND;TZID=America/Chicago:20250720T233000
DTSTAMP:20260419T184242
CREATED:20250501T231641Z
LAST-MODIFIED:20250501T231644Z
UID:4786-1752955200-1753054200@giliederkranz.org
SUMMARY:Liederkranz Live:  Underbite
DESCRIPTION:Underbite \n			\n			\n				\n				\n				\n				\n			\n				\n				\n			\n				\n				\n				\n				\n				\n				\n				\n				\n				\n				\n				\n				\n				\n				\n				\n				\n				\n				\nHome\n|\nEvents\nUnderbite\n\n			\n				\n				\n				\n				\n				Liederkranz Live: July 19\, 2025   \nUnderbite \n8 PM (Biergarten opens at 7:00)  \nLIVE in Person in the Biergarten \nUnderbite \nUnderbite\, a bass-driven prog rock band will be headlining a show outside in the one and only Liederkranz Biergarten. \nOpeners to be announced \nPrice is $10- $20 suggested and encouraged (all door proceeds go to the musicians) \n			\n				\n				\n				\n				\n				\n					\n						\n					\n				\n			\n			\n			\n				\n				\n				\n				\n			\n				\n				\n				\n				\n				\n				\n				\n				\n				\n				\n				\n				\n				\n					\n				\n				\n				\n				\n				\n				\n				\n					July 19\, 20258:00 PM\n				\n			\n				\n			\n			\n				\n				\n				\n				\n			\n				\n				\n			\n				\n				\n				\n				\n				\n				\n				\n				\n				\n			\n				\n				\n				\n				\n				\n				\n				\n				\n				\n				\n				\n				\n				\n				\n				\n				\n				\n				What’s Next at the Liederkranz
URL:https://giliederkranz.org/event/liederkranz-live-underbite/
LOCATION:Liederkranz\, 401 W 1st Street\, Grand Island\, NE\, 68801\, United States
CATEGORIES:July
ORGANIZER;CN="Liederkranz Live Music":MAILTO:info@giliederkranz.org
END:VEVENT
END:VCALENDAR