BEGIN:VCALENDAR
VERSION:2.0
PRODID:-//Grand Island Liederkranz - ECPv6.15.20//NONSGML v1.0//EN
CALSCALE:GREGORIAN
METHOD:PUBLISH
X-WR-CALNAME:Grand Island Liederkranz
X-ORIGINAL-URL:https://giliederkranz.org
X-WR-CALDESC:Events for Grand Island Liederkranz
REFRESH-INTERVAL;VALUE=DURATION:PT1H
X-Robots-Tag:noindex
X-PUBLISHED-TTL:PT1H
BEGIN:VTIMEZONE
TZID:America/Chicago
BEGIN:DAYLIGHT
TZOFFSETFROM:-0600
TZOFFSETTO:-0500
TZNAME:CDT
DTSTART:20240310T080000
END:DAYLIGHT
BEGIN:STANDARD
TZOFFSETFROM:-0500
TZOFFSETTO:-0600
TZNAME:CST
DTSTART:20241103T070000
END:STANDARD
BEGIN:DAYLIGHT
TZOFFSETFROM:-0600
TZOFFSETTO:-0500
TZNAME:CDT
DTSTART:20250309T080000
END:DAYLIGHT
BEGIN:STANDARD
TZOFFSETFROM:-0500
TZOFFSETTO:-0600
TZNAME:CST
DTSTART:20251102T070000
END:STANDARD
BEGIN:DAYLIGHT
TZOFFSETFROM:-0600
TZOFFSETTO:-0500
TZNAME:CDT
DTSTART:20260308T080000
END:DAYLIGHT
BEGIN:STANDARD
TZOFFSETFROM:-0500
TZOFFSETTO:-0600
TZNAME:CST
DTSTART:20261101T070000
END:STANDARD
END:VTIMEZONE
BEGIN:VEVENT
DTSTART;TZID=America/Chicago:20250503T200000
DTEND;TZID=America/Chicago:20250504T230000
DTSTAMP:20260419T200345
CREATED:20241102T225049Z
LAST-MODIFIED:20250317T204120Z
UID:4446-1746302400-1746399600@giliederkranz.org
SUMMARY:Liederkranz Live: Seasons of Truth \ The Great Disappointment
DESCRIPTION:Seasons of Truth and The Great Disappointment\n			\n			\n				\n				\n				\n				\n			\n				\n				\n			\n				\n				\n				\n				\n				\n				\n				\n				\n				\n				\n				\n				\n				\n				\n				\n				\n				\n				\nHome\n|\nEvents\n|\n -Seasons of Truth   -The Great Disappointment\n\n			\n				\n				\n				\n				\n				  \nMay 3\, 2025  \nLiederkranz Live- Young Artist Night \n –Seasons of Truth  \nand \n–The Great Disappointment \n \n8 PM (doors open at 7:00) \n  \nThe Great Disappointment \nAlternative rock band from the Holdrege\, NE area. \n Seasons of Truth \n4 piece indie rock band from Grand Island Nebraska- did we tell you that they’re only HIGH SCHOOLERS?! Catch them at our Young Artist Night. \n  \nPrice is $10- $20 suggested and encouraged (all door proceeds go to the musician) \n  \n  \n			\n				\n				\n				\n				\n				\n					\n						\n				\n			\n			\n				\n			\n			\n					\n				\n			\n			\n				\n				\n				\n				\n				\n					\n						\n					\n				\n			\n			\n			\n				\n				\n				\n				\n			\n				\n				\n				\n				\n				\n				\n				\n				\n				\n				\n				\n				\n				\n					\n				\n				\n				\n				\n				\n				\n				\n					May 3\, 20258:00 PM\n				\n			\n				\n			\n			\n				\n				\n				\n				\n			\n				\n				\n			\n				\n				\n				\n				\n				\n				\n				\n				\n				\n			\n				\n				\n				\n				\n				\n				\n				\n				\n				\n				\n				\n				\n				\n				\n				\n				\n				\n				What’s Next at the Liederkranz
URL:https://giliederkranz.org/event/frantic-youth/
LOCATION:NE
CATEGORIES:May
END:VEVENT
BEGIN:VEVENT
DTSTART;TZID=America/Chicago:20250507T190000
DTEND;TZID=America/Chicago:20250508T220000
DTSTAMP:20260419T200347
CREATED:20250204T072400Z
LAST-MODIFIED:20250306T215940Z
UID:4671-1746644400-1746741600@giliederkranz.org
SUMMARY:Liederkranz Live:  Cassie and Maggie
DESCRIPTION:Cassie and Maggie\n			\n			\n				\n				\n				\n				\n			\n				\n				\n			\n				\n				\n				\n				\n				\n				\n				\n				\n				\n				\n				\n				\n				\n				\n				\n				\n				\n				\nHome\n|\nEvents\n|\nCassie and Maggie\n\n			\n				\n				\n				\n				\n				Liederkranz Live:  May 7\, 2025   \nCassie and Maggie \n7 PM (doors open at 6:00)   \nLIVE in Person \nCassie and Maggie \nWith over 17 combined Canadian Folk Music\, East Coast Music\, and Music Nova Scotia awards and nominations\, the JUNO-Nominated powerhouse duo\, Cassie and Maggie\, emerge as an unstoppable force on the global folk stage. Unleashing a magnetic energy\, they seamlessly weave their deep Celtic heritage with contemporary influences. Committed to not just preserving but also propelling Nova Scotia’s folk traditions into new realms\, Cassie and Maggie bring an exhilarating energy that is both timeless and irresistibly modern. Their eagerly anticipated 5th studio album\, “Gold and Coal\,” poised to solidify their status as folk music trailblazers. \n“Be it their foot percussion accompanying driving Nova Scotian sets\, their perfect blend of sibling harmonies\, added to a stunning interplay on various instruments\, a musical evening spent with Cassie and Maggie is a great night\, altogether” -Irish Music Magazine. Their latest album\, The Willow Collection “has sold over 9000 copies worldwide and showcases not only their musical ability\, but the depth and variety of their musicianship.”  IMM Cassie and Maggie are an unbelievably gifted duo… the train is just gathering steam and leaving the station on these new stars. It is going to be a glorious journey\, and it is already well-begun.” –Live Ireland Radio- Dublin\, IR \nhttps://cassieandmaggie.com/ \nPrice is $15- $20 suggested and encouraged (all door proceeds go to the musicians) \n \n \n			\n				\n				\n				\n				\n				\n					\n						\n				\n			\n			\n				\n			\n			\n				\n			\n			\n				\n			\n			\n					\n				\n			\n			\n			\n				\n				\n				\n				\n			\n				\n				\n				\n				\n				\n				\n				\n				\n				\n				\n				\n				\n				\n					\n				\n				\n				\n				\n				\n				\n				\n					May 7\, 20257:00 PM\n				\n			\n				\n			\n			\n				\n				\n				\n				\n			\n				\n				\n			\n				\n				\n				\n				\n				\n				\n				\n				\n				\n			\n				\n				\n				\n				\n				\n				\n				\n				\n				\n				\n				\n				\n				\n				\n				\n				\n				\n				What’s Next at the Liederkranz
URL:https://giliederkranz.org/event/liederkranz-live-cassie-and-maggie/
LOCATION:Liederkranz\, 401 W 1st Street\, Grand Island\, NE\, 68801\, United States
CATEGORIES:May
ORGANIZER;CN="Liederkranz Live Music":MAILTO:info@giliederkranz.org
END:VEVENT
BEGIN:VEVENT
DTSTART;TZID=America/Chicago:20250516T190000
DTEND;TZID=America/Chicago:20250517T230000
DTSTAMP:20260419T200348
CREATED:20241029T051526Z
LAST-MODIFIED:20250516T045816Z
UID:4367-1747422000-1747522800@giliederkranz.org
SUMMARY:Liederkranz Live:  Alli and I // Brad Hoffman //
DESCRIPTION:Alli and I \n			\n			\n				\n				\n				\n				\n			\n				\n				\n			\n				\n				\n				\n				\n				\n				\n				\n				\n				\n				\n				\n				\n				\n				\n				\n				\n				\n				\nHome\n|\nEvents\n|\n-Alli and I\n– Brad Hoffman\n\n			\n				\n				\n				\n				\n				May 16\, 2025 @ 7:00 PM (doors open at 6:00) \nLiederkranz Live: Bear\, Brews\, and Bards \n–Alli and I \n–Brad Hoffman \n  \nAlli And i\n\nAlli and I began their journey in 2007 when Andrew Standley took his guitar\, Alli\, to the corner of 7th & P Streets and sang for passersby in the Historical Haymarket of Lincoln\, Nebraska. \nIt’s been almost 17 years since then\, and the acoustic ensemble is rolling stronger than ever with dozens of tour dates and their new release out now. THE DOTTED LINES EP packs the punch of a thousand thoughts\, with anthems written about\, and from the road. \nOver the past decade and a half\, Alli and I have made hundreds upon hundreds of friends; have played LIVE everywhere from Boston to Los Angeles; from Minneapolis to San Antonio. Pair that with the long discography of  two full length records\, three EPs\, and a LIVE record\, it’s clear that Alli and I can deliver both on stage and in the studio. \n\n			\n				\n				\n				\n				\n				\n					\n						\n				\n			\n			\n				\n			\n			\n				\n			\n			\n				\n			\n			\n					\n				\n			\n			\n				\n				\n				\n				\n				\n					\n						\n				\n			\n			\n					\n				\n			\n			\n				\n				\n				\n				\n				\n					\n						\n					\n				\n			\n			\n				\n				\n				\n				\n				  \nSuggested Donation of $10.00 – $20.00 (all door proceeds go to the performer) \n			\n			\n				\n				\n				\n				\n			\n				\n				\n				\n				\n				\n				\n				\n				\n				\n				\n				\n				\n				\n					\n				\n				\n				\n				\n				\n				\n				\n					May 16\, 20257:00 PM  (doors open at 6 pm)\n				\n			\n				\n			\n			\n				\n				\n				\n				\n			\n				\n				\n			\n				\n				\n				\n				\n				\n				\n				\n				\n				\n			\n				\n				\n				\n				\n				\n				\n				\n				\n				\n				\n				\n				\n				\n				\n				\n				\n				\n				What’s Next at the Liederkranz
URL:https://giliederkranz.org/event/alli-and-i/
LOCATION:Liederkranz\, 401 W 1st Street\, Grand Island\, NE\, 68801\, United States
CATEGORIES:May
ORGANIZER;CN="Liederkranz Live Music":MAILTO:info@giliederkranz.org
END:VEVENT
BEGIN:VEVENT
DTSTART;TZID=America/Chicago:20250523T200000
DTEND;TZID=America/Chicago:20250524T233000
DTSTAMP:20260419T200349
CREATED:20250309T210632Z
LAST-MODIFIED:20250309T221411Z
UID:4752-1748030400-1748129400@giliederkranz.org
SUMMARY:Liederkranz Live:  Cruz Control and Head Change
DESCRIPTION:Cruz Control and Head Change \n			\n			\n				\n				\n				\n				\n			\n				\n				\n			\n				\n				\n				\n				\n				\n				\n				\n				\n				\n				\n				\n				\n				\n				\n				\n				\n				\n				\nHome\n|\nEvents\n|\nHead Change\n\n			\n				\n				\n				\n				\n				Liederkranz Live: May 23\, 2025   \nCruz Control and Head Change \n8 PM (doors open at 6:00)   \nLIVE in Person \nCruz Control \nCruz Control is a three piece band based out of Omaha Nebraska. The band creates and blends their own sound based off of their love for Funk\, Reggae and Jamband style music. Cruz Control is guaranteed to get you moving! \nHead Change \nIf you missed them last time you know you have regretted it!  If don’t know you should regret missing Head Change… please come see them and never let the regret happen to you.  It was an incredible performance\, and they are coming back for another round amped up with even more energy than before. \nHead Change is a highly energetic\, funky Jam Band heavily influenced by The Grateful Dead\, Phish\, The Allman Brothers and many more.  They are sure to have you smiling and groovin your troubles away! \nHead Change is Four young men making crispety\, crunchity jam-rock hailing out of Lincoln\, Nebraska and are a must see. \nWe’ll see you at the show! \nPrice is $10- $20 suggested and encouraged (all door proceeds go to the musicians) \n			\n				\n				\n				\n				\n				\n					\n						\n				\n			\n			\n				\n			\n			\n				\n			\n			\n				\n			\n			\n				\n			\n			\n				\n			\n			\n					\n				\n			\n			\n			\n				\n				\n				\n				\n			\n				\n				\n				\n				\n				\n				\n				\n				\n				\n				\n				\n				\n				\n					\n				\n				\n				\n				\n				\n				\n				\n					May 23\, 20258:00 PM\n				\n			\n				\n			\n			\n				\n				\n				\n				\n			\n				\n				\n			\n				\n				\n				\n				\n				\n				\n				\n				\n				\n			\n				\n				\n				\n				\n				\n				\n				\n				\n				\n				\n				\n				\n				\n				\n				\n				\n				\n				What’s Next at the Liederkranz
URL:https://giliederkranz.org/event/liederkranz-live-head-change/
LOCATION:Liederkranz\, 401 W 1st Street\, Grand Island\, NE\, 68801\, United States
CATEGORIES:May
ORGANIZER;CN="Liederkranz Live Music":MAILTO:info@giliederkranz.org
END:VEVENT
BEGIN:VEVENT
DTSTART;TZID=America/Chicago:20250531T193000
DTEND;TZID=America/Chicago:20250601T230000
DTSTAMP:20260419T200350
CREATED:20250501T010011Z
LAST-MODIFIED:20250527T211902Z
UID:4828-1748719800-1748818800@giliederkranz.org
SUMMARY:Liederkranz Live:  Kevin McClure
DESCRIPTION:Kevin McClure\n			\n			\n				\n				\n				\n				\n			\n				\n				\n			\n				\n				\n				\n				\n				\n				\n				\n				\n				\n				\n				\n				\n				\n				\n				\n				\n				\n				\nHome\n|\nEvents\n|\nKevin McClure\n\n			\n				\n				\n				\n				\n				Liederkranz Live:  May 31\, 20257:30 PM (Biergarten) \nLive Music From Kevin McClure\nKevin McClure has two criteria for his music: the lyrics must be written earnestly and the instrumentation must be ambitious- utilizing a broad scope of music theory\, timbre\, and genre. Whether it’s music written for a quiet night at home or for blasting loud while driving down the highway\, his songs are for people who want profound lyrics and eclectic musicality. This Omaha-based artist brings an exciting\, high-energy live show that invites the crowd to something deeper than passive observers: he builds community. \nFor fans of The Beatles\, Bruce Springsteen\, Switchfoot\, Bright Eyes\, and Mat Kearney. \nhttps://kevinmcclure.org/ \nPrice is $10- $20 suggested and encouraged (all door proceeds go to the musicians) \n			\n				\n				\n				\n				\n				\n					\n						\n				\n			\n			\n				\n			\n			\n				\n			\n			\n				\n			\n			\n					\n				\n			\n			\n			\n				\n				\n				\n				\n			\n				\n				\n				\n				\n				\n				\n				\n				\n				\n				\n				\n				\n				\n					\n				\n				\n				\n				\n				\n				\n				\n					May 31\, 20258:00 PM\n				\n			\n				\n			\n			\n				\n				\n				\n				\n			\n				\n				\n			\n				\n				\n				\n				\n				\n				\n				\n				\n				\n			\n				\n				\n				\n				\n				\n				\n				\n				\n				\n				\n				\n				\n				\n				\n				\n				\n				\n				What’s Next at the Liederkranz
URL:https://giliederkranz.org/event/liederkranz-live-kevin-mcclure/
LOCATION:Liederkranz\, 401 W 1st Street\, Grand Island\, NE\, 68801\, United States
CATEGORIES:May
ORGANIZER;CN="Liederkranz Live Music":MAILTO:info@giliederkranz.org
END:VEVENT
END:VCALENDAR