BEGIN:VCALENDAR
VERSION:2.0
PRODID:-//Grand Island Liederkranz - ECPv6.15.20//NONSGML v1.0//EN
CALSCALE:GREGORIAN
METHOD:PUBLISH
X-WR-CALNAME:Grand Island Liederkranz
X-ORIGINAL-URL:https://giliederkranz.org
X-WR-CALDESC:Events for Grand Island Liederkranz
REFRESH-INTERVAL;VALUE=DURATION:PT1H
X-Robots-Tag:noindex
X-PUBLISHED-TTL:PT1H
BEGIN:VTIMEZONE
TZID:America/Chicago
BEGIN:DAYLIGHT
TZOFFSETFROM:-0600
TZOFFSETTO:-0500
TZNAME:CDT
DTSTART:20240310T080000
END:DAYLIGHT
BEGIN:STANDARD
TZOFFSETFROM:-0500
TZOFFSETTO:-0600
TZNAME:CST
DTSTART:20241103T070000
END:STANDARD
BEGIN:DAYLIGHT
TZOFFSETFROM:-0600
TZOFFSETTO:-0500
TZNAME:CDT
DTSTART:20250309T080000
END:DAYLIGHT
BEGIN:STANDARD
TZOFFSETFROM:-0500
TZOFFSETTO:-0600
TZNAME:CST
DTSTART:20251102T070000
END:STANDARD
BEGIN:DAYLIGHT
TZOFFSETFROM:-0600
TZOFFSETTO:-0500
TZNAME:CDT
DTSTART:20260308T080000
END:DAYLIGHT
BEGIN:STANDARD
TZOFFSETFROM:-0500
TZOFFSETTO:-0600
TZNAME:CST
DTSTART:20261101T070000
END:STANDARD
END:VTIMEZONE
BEGIN:VEVENT
DTSTART;TZID=America/Chicago:20250905T190000
DTEND;TZID=America/Chicago:20250906T220000
DTSTAMP:20260419T112950
CREATED:20250501T004139Z
LAST-MODIFIED:20250501T004358Z
UID:4818-1757098800-1757196000@giliederkranz.org
SUMMARY:Liederkranz Live:  Andy Sydow
DESCRIPTION:Andy Sydow\n			\n			\n				\n				\n				\n				\n			\n				\n				\n			\n				\n				\n				\n				\n				\n				\n				\n				\n				\n				\n				\n				\n				\n				\n				\n				\n				\n				\nHome\n|\nEvents\n|\nAndy Sydow\n\n			\n				\n				\n				\n				\n				Liederkranz Live:  September 5\, 2025 \nAndy Sydow \n7 PM (doors open at 6:00)   \nLIVE in Person \nAndy Sydow \nAmericana\, rock\, folk\, singer-songwriter\, Andy Sydow is an accomplished multi-instrumentalist who’s lyrics paint a picture of poetic realism. Touring consistently both solo and with a backing band\, Sydow is known to sway an audience with acoustic guitar ballads\, sing a few numbers on his lap steel\, and even sit down at the keys to show off his surprising boogie-woogie piano chops. He draws comparisons to voices like Paul Simon and Jackson Browne\, mixed with a roots rock vibe reminiscent of Tom Petty or Nathaniel Rateliff & The Night Sweats.  \nhttps://andysydow.com/home \nPrice is $10- $20 suggested and encouraged (all door proceeds go to the musicians) \n  \n			\n				\n				\n				\n				\n				\n					\n						\n				\n			\n			\n				\n			\n			\n				\n			\n			\n				\n			\n			\n				\n			\n			\n					\n				\n			\n			\n			\n				\n				\n				\n				\n			\n				\n				\n				\n				\n				\n				\n				\n				\n				\n				\n				\n				\n				\n					\n				\n				\n				\n				\n				\n				\n				\n					September 5\, 20257:00 PM\n				\n			\n				\n			\n			\n				\n				\n				\n				\n			\n				\n				\n			\n				\n				\n				\n				\n				\n				\n				\n				\n				\n			\n				\n				\n				\n				\n				\n				\n				\n				\n				\n				\n				\n				\n				\n				\n				\n				\n				\n				What’s Next at the Liederkranz
URL:https://giliederkranz.org/event/liederkranz-live-robert-deitch-2/
LOCATION:Liederkranz\, 401 W 1st Street\, Grand Island\, NE\, 68801\, United States
CATEGORIES:September
ORGANIZER;CN="Liederkranz Live Music":MAILTO:info@giliederkranz.org
END:VEVENT
BEGIN:VEVENT
DTSTART;VALUE=DATE:20250927
DTEND;VALUE=DATE:20250929
DTSTAMP:20260419T112954
CREATED:20240609T220026Z
LAST-MODIFIED:20250903T202400Z
UID:4050-1758931200-1759103999@giliederkranz.org
SUMMARY:Oktoberfest Volunteers Needed!
DESCRIPTION:Oktoberfest Voulnteers Needed!\n			\n			\n				\n				\n				\n				\n			\n				\n				\n			\n				\n				\n				\n				\n				\n				\n				\n				\n				\n				\n				\n				\n				\n				\n				\n				\n				\n				\nHome\n|\nEvents\n|\nVolunteers needed Oktoberfest\n\n			\n				\n				\n				\n				\n				Join Us at Liederkranz Oktoberfest and lend a hand! \nAttention all Oktoberfest enthusiasts and community supporters! \n Liederkranz Oktoberfest\, the most awaited cultural festival of the fall\, is just around the corner\, and we need your help to make it a grand success. Join our team of dedicated volunteers and be part of an unforgettable celebration! \nWe are currently seeking volunteers for several crucial positions \n\n\nTo sign up\, please click the link below: \nhttps://signup.com/go/ZTCtfqb \n\nWe’re using SignUp to organize our upcoming SignUps. \nHere’s how it works in 3 easy steps: \n1) Click this link to see our SignUp on SignUp: https://signup.com/go/ZTCtfqb \n2) Review the options listed and choose the spot(s) you like. \n3) Sign up! It’s Easy – you will NOT need to register an account or keep a password on SignUp. \nNote: SignUp does not share your email address with anyone. If you prefer not to use your email address\, please contact me and I can sign you up manually. \n\n\nBy volunteering\, you’ll have the opportunity to immerse yourself in the rich Bavarian culture\, make new friends\, and create lasting memories.Interested? \nSign up today and be part of this thrilling cultural extravaganza! \n  \n			\n			\n				\n				\n				\n				\n			\n				\n				\n				\n				\n				\n				\n				\n				\n				\n				\n				\n					Liederkranz Oktoberfest 2024\n					\n						 \n						Day(s) \n					\n						: \n					\n						 \n						Hour(s) \n					\n						: \n					\n						 \n						Minute(s) \n					\n						: \n					\n						 \n						Second(s) \n					\n				\n			\n			\n				\n				\n				\n				\n			\n				\n				\n			\n				\n				\n				\n				\n				\n				\n				\n				\n				\n			\n				\n				\n				\n				\n				\n				\n				\n				\n				\n				\n				\n				\n				\n				\n				\n				\n				\n				What’s Next at the Liederkranz
URL:https://giliederkranz.org/event/oktoberfest-volunteers-needed-2/
LOCATION:NE
CATEGORIES:September
END:VEVENT
BEGIN:VEVENT
DTSTART;TZID=America/Chicago:20250927T160000
DTEND;TZID=America/Chicago:20250928T220000
DTSTAMP:20260419T112954
CREATED:20230918T201959Z
LAST-MODIFIED:20250903T192110Z
UID:3057-1758988800-1759096800@giliederkranz.org
SUMMARY:Oktoberfest
DESCRIPTION:Oktoberfest\n			\n			\n				\n				\n				\n				\n			\n				\n				\n			\n				\n				\n				\n				\n				\n				\n				\n				\n				\n				\n				\n				\n				\n				\n				\n				\n				\n				\nHome\n|\nEvents\n|\nOktoberfest\n\n			\n				\n				\n				\n				\n				Join us Saturday\, Sep 27\, 2025 \n  \nBeer / Live Music / Food/ and Contests! \nJoin us September 27 from 4pm-10pm. \nLive Music by:  The Killigans \nMembers: $5 \nNon-Members: $10 \ninfo@giliederkrankz.org – 308-382-9337 \n  \n			\n				\n				\n				\n				\n				\n			\n			\n				\n				\n				\n				\n			\n				\n				\n				\n				\n				\n				\n				\n				\n				\n				\n				\n				\n				\n					\n				\n				\n				\n				\n				\n				\n				\n					Saturday  September 30th2 PM-10PM\n				\n			\n				\n			\n			\n				\n				\n				\n				\n			\n				\n				\n			\n				\n				\n				\n				\n				\n				\n				\n				\n				\n			\n				\n				\n				\n				\n				\n				\n				\n				\n				\n				\n				\n				\n				\n				\n				\n				\n				\n				What’s Next at the Liederkranz
URL:https://giliederkranz.org/event/oktober/
LOCATION:Liederkranz\, 401 W 1st Street\, Grand Island\, NE\, 68801\, United States
CATEGORIES:September
END:VEVENT
BEGIN:VEVENT
DTSTART;TZID=America/Chicago:20250927T190000
DTEND;TZID=America/Chicago:20250928T210000
DTSTAMP:20260419T112955
CREATED:20241006T032125Z
LAST-MODIFIED:20250903T193338Z
UID:4280-1758999600-1759093200@giliederkranz.org
SUMMARY:The Killigans
DESCRIPTION:The Killigans\n			\n			\n				\n				\n				\n				\n			\n				\n				\n			\n				\n				\n				\n				\n				\n				\n				\n				\n				\n				\n				\n				\n				\n				\n				\n				\n				\n				\nHome\n|\nEvents\n|\n-The Killigans\n\n			\n				\n				\n				\n				\n				 Saturday Sep 27\, 2025  \n7- 9 pm \nThe Killigans – Live on stage  \nFor Oktoberfest @ the Liederkranz  \nThe Killigans are a seven piece “folk-punk” band from Lincoln\, NE. The Killigans “sound” combines the diverse musicals tastes of the bands members; fusing Punk Rock\, Folk\, Country and Western\, Celtic\, European folk\, Americana\, and other types of music into an upbeat\, foot-stomping\, beer-raising party. Lyrically\, the songs range from classic storytelling to rebel songs to ballads to middle class anthems. The Killigans are a band who thrive on live performance and crowd interaction.Core members include Brad Hoffman and the Nebesniak brothers. \n  \n			\n				\n				\n				\n				\n				\n					\n						\n				\n			\n			\n				\n			\n			\n				\n			\n			\n				\n			\n			\n					\n				\n			\n			\n			\n				\n				\n				\n				\n			\n				\n				\n				\n				\n				\n				\n				\n				\n				\n				\n				\n				\n				\n					\n				\n				\n				\n				\n				\n				\n				\n					Friday December 20\, 2024 8:00 PM\n				\n			\n				\n			\n			\n				\n				\n				\n				\n			\n				\n				\n			\n				\n				\n				\n				\n				\n				\n				\n				\n				\n			\n				\n				\n				\n				\n				\n				\n				\n				\n				\n				\n				\n				\n			\n			\n				\n				\n			\n				\n				\n				\n				\n				\n				\n				\n				\n				\n				\n				\n				\n				\n				\n				\n				\n				\n				What’s Next at the Liederkranz
URL:https://giliederkranz.org/event/the-killigans/
LOCATION:NE
CATEGORIES:September
END:VEVENT
END:VCALENDAR