BEGIN:VCALENDAR
VERSION:2.0
PRODID:-//Grand Island Liederkranz - ECPv6.15.20//NONSGML v1.0//EN
CALSCALE:GREGORIAN
METHOD:PUBLISH
X-ORIGINAL-URL:https://giliederkranz.org
X-WR-CALDESC:Events for Grand Island Liederkranz
REFRESH-INTERVAL;VALUE=DURATION:PT1H
X-Robots-Tag:noindex
X-PUBLISHED-TTL:PT1H
BEGIN:VTIMEZONE
TZID:America/Chicago
BEGIN:DAYLIGHT
TZOFFSETFROM:-0600
TZOFFSETTO:-0500
TZNAME:CDT
DTSTART:20240310T080000
END:DAYLIGHT
BEGIN:STANDARD
TZOFFSETFROM:-0500
TZOFFSETTO:-0600
TZNAME:CST
DTSTART:20241103T070000
END:STANDARD
BEGIN:DAYLIGHT
TZOFFSETFROM:-0600
TZOFFSETTO:-0500
TZNAME:CDT
DTSTART:20250309T080000
END:DAYLIGHT
BEGIN:STANDARD
TZOFFSETFROM:-0500
TZOFFSETTO:-0600
TZNAME:CST
DTSTART:20251102T070000
END:STANDARD
BEGIN:DAYLIGHT
TZOFFSETFROM:-0600
TZOFFSETTO:-0500
TZNAME:CDT
DTSTART:20260308T080000
END:DAYLIGHT
BEGIN:STANDARD
TZOFFSETFROM:-0500
TZOFFSETTO:-0600
TZNAME:CST
DTSTART:20261101T070000
END:STANDARD
END:VTIMEZONE
BEGIN:VEVENT
DTSTART;TZID=America/Chicago:20250531T193000
DTEND;TZID=America/Chicago:20250601T230000
DTSTAMP:20260419T165235
CREATED:20250501T010011Z
LAST-MODIFIED:20250527T211902Z
UID:4828-1748719800-1748818800@giliederkranz.org
SUMMARY:Liederkranz Live:  Kevin McClure
DESCRIPTION:Kevin McClure\n			\n			\n				\n				\n				\n				\n			\n				\n				\n			\n				\n				\n				\n				\n				\n				\n				\n				\n				\n				\n				\n				\n				\n				\n				\n				\n				\n				\nHome\n|\nEvents\n|\nKevin McClure\n\n			\n				\n				\n				\n				\n				Liederkranz Live:  May 31\, 20257:30 PM (Biergarten) \nLive Music From Kevin McClure\nKevin McClure has two criteria for his music: the lyrics must be written earnestly and the instrumentation must be ambitious- utilizing a broad scope of music theory\, timbre\, and genre. Whether it’s music written for a quiet night at home or for blasting loud while driving down the highway\, his songs are for people who want profound lyrics and eclectic musicality. This Omaha-based artist brings an exciting\, high-energy live show that invites the crowd to something deeper than passive observers: he builds community. \nFor fans of The Beatles\, Bruce Springsteen\, Switchfoot\, Bright Eyes\, and Mat Kearney. \nhttps://kevinmcclure.org/ \nPrice is $10- $20 suggested and encouraged (all door proceeds go to the musicians) \n			\n				\n				\n				\n				\n				\n					\n						\n				\n			\n			\n				\n			\n			\n				\n			\n			\n				\n			\n			\n					\n				\n			\n			\n			\n				\n				\n				\n				\n			\n				\n				\n				\n				\n				\n				\n				\n				\n				\n				\n				\n				\n				\n					\n				\n				\n				\n				\n				\n				\n				\n					May 31\, 20258:00 PM\n				\n			\n				\n			\n			\n				\n				\n				\n				\n			\n				\n				\n			\n				\n				\n				\n				\n				\n				\n				\n				\n				\n			\n				\n				\n				\n				\n				\n				\n				\n				\n				\n				\n				\n				\n				\n				\n				\n				\n				\n				What’s Next at the Liederkranz
URL:https://giliederkranz.org/event/liederkranz-live-kevin-mcclure/
LOCATION:Liederkranz\, 401 W 1st Street\, Grand Island\, NE\, 68801\, United States
CATEGORIES:May
ORGANIZER;CN="Liederkranz Live Music":MAILTO:info@giliederkranz.org
END:VEVENT
BEGIN:VEVENT
DTSTART;TZID=America/Chicago:20250610T180000
DTEND;TZID=America/Chicago:20250611T220000
DTSTAMP:20260419T165236
CREATED:20240505T221623Z
LAST-MODIFIED:20250208T210651Z
UID:3908-1749578400-1749679200@giliederkranz.org
SUMMARY:Liederkranz Live:  John Byrne
DESCRIPTION:Experience the Magic of John Byrne Live!\n			\n				\n				\n				\n				\n				Join us for an unforgettable night of music and passion. \n			\n				Reserve Your Spot\n			\n			\n				\n				\n				\n				\n				\n				\n				\n				\n				\n				\n				\n				\n				\n				\n				\n				An Evening with John Byrne\n			\n				\n				\n				\n				\n				Don't Miss Out!\n			\n				\n				\n				\n				\n				Mark your calendar now for a spectacular musical journey. \n			\n			\n				\n				\n				\n				\n			\n			\n				\n				\n			\n				\n				\n				\n				\n				\n				\n				\n				\n				\n				\n				\n				\n				\n				\n				\n				\n				\n				John Byrne Live in Concert\n			\n				\n				\n				\n				\n				June 10\, 2025 Doors open at 6 pm.  Music begins at 7:00 PM \n			\n				\n				\n				\n				\n				\n			\n				\n				\n				\n				\n				Experience the soulful melodies of John Byrne LIVE and in person at the beautiful Grand Island Liederkranz\, an evening of live music that promises to captivate and inspire.  \nJohn Byrne is a Dublin native and Philadelphia-based musician who also performs with his own band The John Byrne Band. Their debut album\, After the Wake\, was released to critical acclaim on both sides of the Atlantic in 2011. With influences ranging from Tom Waits to Planxty\, John’s songwriting honors and expands upon the musical and lyrical traditions of his native and adopted homes. \n  \n“If any element of Celtic\, Americana or Indie-Folk is your thing\, then this album (The Immigrant and the Orphan) is an absolute yes” Beehive Candy \n“It’s a gorgeous\, nostalgic record filled with themes of loss\, hope\, history and lost loves; everything that tugs at your soul and spills your blood and guts…The Immigrant and the Orphan scorches the earth and emerges tough as nails” Jane Roser – That Music Mag \n“Up and coming Trad star hits the sweet spot…beautifully played…its Byrne’s natural vocal delivery that makes the album stand out from the crowd” Hot Press (Ireland) \n			\n				\n				\n				\n				\n				Tickets start at $10- 20 \n			\n				Buy Tickets\n			\n			\n				\n				\n				\n				\n			\n				\n				\n			\n				\n				\n				\n				\n				\n				\n				\n				\n				\n				\n				\n				\n				\n				\n				\n				\n				\n				Watch John Byrne Perform\n			\n				\n				\n				\n				\n				\n					\n						\n				\n			\n			\n				\n			\n			\n				\n			\n			\n				\n			\n			\n				\n			\n			\n				\n			\n			\n					\n				\n			\n			\n			\n				\n				\n				\n				\n			\n				\n				\n			\n				\n				\n				\n				\n				\n				\n				\n				\n				\n				\n				\n				\n				\n				\n				\n				\n				\n				Don't Miss John Byrne Live in Concert!Experience an unforgettable night of music and magic with John Byrne! Secure your spot today and be part of the excitement. \n				Get Your Tickets Now!
URL:https://giliederkranz.org/event/john-byrne/
LOCATION:NE
CATEGORIES:June
ATTACH;FMTTYPE=image/jpeg:https://giliederkranz.org/wp-content/uploads/2023/03/John_Byrne_Band_At_The_Grand_Island_Liederkranz_June_13_2023.jpg
ORGANIZER;CN="Liederkranz Live Music":MAILTO:info@giliederkranz.org
END:VEVENT
BEGIN:VEVENT
DTSTART;TZID=America/Chicago:20250621T200000
DTEND;TZID=America/Chicago:20250622T233000
DTSTAMP:20260419T165238
CREATED:20250309T214751Z
LAST-MODIFIED:20250527T025750Z
UID:4759-1750536000-1750635000@giliederkranz.org
SUMMARY:Liederkranz Live: Avid Dischord
DESCRIPTION:Avid Dischord\n			\n			\n				\n				\n				\n				\n			\n				\n				\n			\n				\n				\n				\n				\n				\n				\n				\n				\n				\n				\n				\n				\n				\n				\n				\n				\n				\n				\nHome\n|\nEvents\nAvid Dischord\n\n			\n				\n				\n				\n				\n				Liederkranz Live: June 27\, 2025 \n8 PM (doors open at 7:00) \nAvid Dischord LIVE in Person\nAvid Dischord – Straight out of the Panhandle of Nebraska. One of Nebraska’s premium Jam Bands. \nAvid Dischord is a group of young men performing sizzling fun and energetic music that is both familiar and happily funkily jazzed up.  This is another “Don’t Miss Show” at the Grand Island Liederkranz. \nWe’ll see you at the show! \nPrice is $10- $20 suggested and encouraged (all door proceeds go to the musicians) \n			\n				\n				\n				\n				\n				\n					\n						\n				\n			\n			\n				\n			\n			\n				\n			\n			\n					\n				\n			\n			\n			\n				\n				\n				\n				\n			\n				\n				\n				\n				\n				\n				\n				\n				\n				\n				\n				\n				\n				\n					\n				\n				\n				\n				\n				\n				\n				\n					June 21\, 20258:00 PM\n				\n			\n				\n			\n			\n				\n				\n				\n				\n			\n				\n				\n			\n				\n				\n				\n				\n				\n				\n				\n				\n				\n			\n				\n				\n				\n				\n				\n				\n				\n				\n				\n				\n				\n				\n				\n				\n				\n				\n				\n				What’s Next at the Liederkranz
URL:https://giliederkranz.org/event/liederkranz-live-avid-dischord/
LOCATION:Liederkranz\, 401 W 1st Street\, Grand Island\, NE\, 68801\, United States
CATEGORIES:June
ORGANIZER;CN="Liederkranz Live Music":MAILTO:info@giliederkranz.org
END:VEVENT
BEGIN:VEVENT
DTSTART;TZID=America/Chicago:20250626T190000
DTEND;TZID=America/Chicago:20250627T220000
DTSTAMP:20260419T165238
CREATED:20250331T203108Z
LAST-MODIFIED:20250331T203112Z
UID:4793-1750964400-1751061600@giliederkranz.org
SUMMARY:Liederkranz Live:  Modern Kowboy
DESCRIPTION:Modern Kowboy\n			\n			\n				\n				\n				\n				\n			\n				\n				\n			\n				\n				\n				\n				\n				\n				\n				\n				\n				\n				\n				\n				\n				\n				\n				\n				\n				\n				\nHome\n|\nEvents\n|\nModern Kowboy \n\n			\n				\n				\n				\n				\n				Liederkranz Live:  June 26\, 2025   \nModern Kowboy  \n7 PM (doors open at 6:00)   \nLIVE in Person \nModern Kowboy \nModern Kowboy is a High-intensity Country and Rock’n’Roll band performing everything from 1950 to Present Rock and Country. From Hank Williams and Johnny Cash to AC/DC and Guns and Roses to Garth Brooks and George Strait to Modern Kowboy Originals. Focusing mainly on 80’s\, 90’s and 2000’s Classic Rock and Real Country. Always doing the music justice\, 4 part harmonies\, and Top Notch Showmanship. \n \n \nPrice is $10- $20 suggested and encouraged (all door proceeds go to the musicians) \n  \n			\n				\n				\n				\n				\n				\n					\n						\n				\n			\n			\n				\n			\n			\n				\n			\n			\n					\n				\n			\n			\n			\n				\n				\n				\n				\n			\n				\n				\n				\n				\n				\n				\n				\n				\n				\n				\n				\n				\n				\n					\n				\n				\n				\n				\n				\n				\n				\n					June 26\, 20257:00 PM\n				\n			\n				\n			\n			\n				\n				\n				\n				\n			\n				\n				\n			\n				\n				\n				\n				\n				\n				\n				\n				\n				\n			\n				\n				\n				\n				\n				\n				\n				\n				\n				\n				\n				\n				\n				\n				\n				\n				\n				\n				What’s Next at the Liederkranz
URL:https://giliederkranz.org/event/liederkranz-live-modern-kowboy/
LOCATION:Liederkranz\, 401 W 1st Street\, Grand Island\, NE\, 68801\, United States
CATEGORIES:June
ORGANIZER;CN="Liederkranz Live Music":MAILTO:info@giliederkranz.org
END:VEVENT
END:VCALENDAR