BEGIN:VCALENDAR
VERSION:2.0
PRODID:-//Grand Island Liederkranz - ECPv6.15.20//NONSGML v1.0//EN
CALSCALE:GREGORIAN
METHOD:PUBLISH
X-ORIGINAL-URL:https://giliederkranz.org
X-WR-CALDESC:Events for Grand Island Liederkranz
REFRESH-INTERVAL;VALUE=DURATION:PT1H
X-Robots-Tag:noindex
X-PUBLISHED-TTL:PT1H
BEGIN:VTIMEZONE
TZID:America/Chicago
BEGIN:DAYLIGHT
TZOFFSETFROM:-0600
TZOFFSETTO:-0500
TZNAME:CDT
DTSTART:20240310T080000
END:DAYLIGHT
BEGIN:STANDARD
TZOFFSETFROM:-0500
TZOFFSETTO:-0600
TZNAME:CST
DTSTART:20241103T070000
END:STANDARD
BEGIN:DAYLIGHT
TZOFFSETFROM:-0600
TZOFFSETTO:-0500
TZNAME:CDT
DTSTART:20250309T080000
END:DAYLIGHT
BEGIN:STANDARD
TZOFFSETFROM:-0500
TZOFFSETTO:-0600
TZNAME:CST
DTSTART:20251102T070000
END:STANDARD
BEGIN:DAYLIGHT
TZOFFSETFROM:-0600
TZOFFSETTO:-0500
TZNAME:CDT
DTSTART:20260308T080000
END:DAYLIGHT
BEGIN:STANDARD
TZOFFSETFROM:-0500
TZOFFSETTO:-0600
TZNAME:CST
DTSTART:20261101T070000
END:STANDARD
END:VTIMEZONE
BEGIN:VEVENT
DTSTART;TZID=America/Chicago:20250726T160000
DTEND;TZID=America/Chicago:20250727T220000
DTSTAMP:20260419T182718
CREATED:20250601T202403Z
LAST-MODIFIED:20250601T202629Z
UID:5048-1753545600-1753653600@giliederkranz.org
SUMMARY:Sommerfest 2025
DESCRIPTION:Sommerfest- 2025 \n			\n			\n				\n				\n				\n				\n			\n				\n				\n			\n				\n				\n				\n				\n				\n				\n				\n				\n				\n				\n				\n				\n				\n				\n				\n				\n				\n				\nHome\n|\nEvents\n|\nSommerfest – Live Music  -Food  -Games\n\n			\n				\n				\n				\n				\n				July 26\, 2025  \n4 -10 PM \nSommerfest 2025 \nLive Music night at the Liederkranz!  – Barry Boyce Band-  \nFun  -Food- Games \n			\n				\n				\n				\n				\n				\n			\n			\n				\n				\n				\n				\n			\n				\n				\n				\n				\n				\n				\n				\n				\n				\n				\n				\n				\n				\n					\n				\n				\n				\n				\n				\n				\n				\n					Friday January 31\, 20257:00 PM    (doors open at 6)\n				\n			\n				\n			\n			\n				\n				\n				\n				\n			\n				\n				\n			\n				\n				\n				\n				\n				\n				\n				\n				\n				\n			\n				\n				\n				\n				\n				\n				\n				\n				\n				\n				\n				\n				\n				\n				\n				\n				\n				\n				What’s Next at the Liederkranz
URL:https://giliederkranz.org/event/sommerfest-2025/
LOCATION:NE
CATEGORIES:July
END:VEVENT
BEGIN:VEVENT
DTSTART;TZID=America/Chicago:20250726T170000
DTEND;TZID=America/Chicago:20250727T210000
DTSTAMP:20260419T182719
CREATED:20240609T210542Z
LAST-MODIFIED:20250601T200207Z
UID:4028-1753549200-1753650000@giliederkranz.org
SUMMARY:Barry Boyce Band
DESCRIPTION:Barry Boyce Band – Live – Sommerfest 2025 \n			\n			\n				\n				\n				\n				\n			\n				\n				\n			\n				\n				\n				\n				\n				\n				\n				\n				\n				\n				\n				\n				\n				\n				\n				\n				\n				\n				\nHome\n|\nEvents\nBarry Boyce Band – Live Music\n\n			\n				\n				\n				\n				\n				Barry Boyce Band-Sommerfest -July 26\, 2025 \n– Live in the Liederkranz Bier Garten \nSaturday July 26\, 2025   \n5:00 pm – 9:00 pm \nLive Music night at the Liederkranz!  – Barry Boyce  \nIf you are just sittin’ around bored and looking for something fun to do\, why not come out and see the band play? \nBring a lawn chair and enjoy the spacious shaded experience only the Liederkranz Bier Garten can provide. \nBarry Boyce is one of the all time great Polka Party Bands in Nebraska a must see! \nThe band features Barry Boyce on piano accordion\, button accordion and vocals. \n \n			\n				\n				\n				\n				\n				\n					\n						\n				\n			\n			\n				\n			\n			\n				\n			\n			\n				\n			\n			\n					\n				\n			\n			\n				\n				\n				\n				\n				  \n  \nGrand Island Liederkranz Sommerfest 2025 \nAdmission:  Kids Free /  Members- Free /  Non-Members $10 \n  \n			\n			\n				\n				\n				\n				\n			\n				\n				\n				\n				\n				\n				\n				\n				\n				\n				\n				\n				\n				\n					\n				\n				\n				\n				\n				\n				\n				\n					Saturday June 29\, 20244- 9 PM\n				\n			\n				\n			\n			\n				\n				\n				\n				\n			\n				\n				\n			\n				\n				\n				\n				\n				\n				\n				\n				\n				\n			\n				\n				\n				\n				\n				\n				\n				\n				\n				\n				\n				\n				\n				\n				\n				\n				\n				\n				What’s Next at the Liederkranz
URL:https://giliederkranz.org/event/barry-boyce-band/
LOCATION:NE
CATEGORIES:July
END:VEVENT
END:VCALENDAR